BEGIN:VCALENDAR
METHOD:REQUEST
PRODID:-//events.orgNONSGML ical.net 4.0//EN
VERSION:2.0
BEGIN:VEVENT
DTEND;VALUE=DATE:20260617
DTSTAMP:20260424T092445Z
DTSTART;VALUE=DATE:20260617
LOCATION:Baba Yaga\, Seattle
ORGANIZER;CN=:mailto:events@events.org
SEQUENCE:0
SUMMARY:Chase Icon
UID:e969a69b-c5e0-4ab4-b10e-649406bd1823
URL:https://events.org/e/Chase-Icon/HCIOMIKP
BEGIN:VALARM
ACTION:DISPLAY
SUMMARY:Reminder
TRIGGER:-P1D
END:VALARM
END:VEVENT
END:VCALENDAR
