BEGIN:VCALENDAR
METHOD:REQUEST
PRODID:-//events.orgNONSGML ical.net 4.0//EN
VERSION:2.0
BEGIN:VEVENT
DTEND;VALUE=DATE:20260519
DTSTAMP:20260424T081221Z
DTSTART;VALUE=DATE:20260519
LOCATION:Underground Arts\, Philadelphia
ORGANIZER;CN=:mailto:events@events.org
SEQUENCE:0
SUMMARY:Terror with Pain of Truth (21+ Event)
UID:21f84e8d-eb32-4b04-be29-81f2cf94aeac
URL:https://events.org/e/Terror-with-Pain-of-Truth-21-Event/FR8FNUWY
BEGIN:VALARM
ACTION:DISPLAY
SUMMARY:Reminder
TRIGGER:-P1D
END:VALARM
END:VEVENT
END:VCALENDAR
