BEGIN:VCALENDAR
METHOD:REQUEST
PRODID:-//events.orgNONSGML ical.net 4.0//EN
VERSION:2.0
BEGIN:VEVENT
DTEND;VALUE=DATE:20260709
DTSTAMP:20260424T092741Z
DTSTART;VALUE=DATE:20260709
LOCATION:Chop Suey\, Seattle
ORGANIZER;CN=:mailto:events@events.org
SEQUENCE:0
SUMMARY:SIAMÉS
UID:2e489c2e-e64b-499d-bbc4-3e177df95537
URL:https://events.org/e/SIAMES/GUJOG6TD
BEGIN:VALARM
ACTION:DISPLAY
SUMMARY:Reminder
TRIGGER:-P1D
END:VALARM
END:VEVENT
END:VCALENDAR
