BEGIN:VCALENDAR
METHOD:REQUEST
PRODID:-//events.orgNONSGML ical.net 4.0//EN
VERSION:2.0
BEGIN:VEVENT
DTEND;VALUE=DATE:20260513
DTSTAMP:20260423T132952Z
DTSTART;VALUE=DATE:20260513
LOCATION:Palace of Fine Arts\, San Francisco
ORGANIZER;CN=:mailto:events@events.org
SEQUENCE:0
SUMMARY:YVES TOUR 2026: THE AMERICAS
UID:9af63f94-f103-4b89-8b1c-e7e742176277
URL:https://events.org/e/YVES-TOUR-2026-THE-AMERICAS/DB2M8JIW
BEGIN:VALARM
ACTION:DISPLAY
SUMMARY:Reminder
TRIGGER:-P1D
END:VALARM
END:VEVENT
END:VCALENDAR
