BEGIN:VCALENDAR
METHOD:REQUEST
PRODID:-//events.orgNONSGML ical.net 4.0//EN
VERSION:2.0
BEGIN:VEVENT
DTEND;VALUE=DATE:20260507
DTSTAMP:20260419T142803Z
DTSTART;VALUE=DATE:20260507
LOCATION:The United Theater on Broadway\, Los Angeles
ORGANIZER;CN=:mailto:events@events.org
SEQUENCE:0
SUMMARY:Netflix Is A Joke Presents: Mojo Brookzz
UID:47c72f9d-c550-4c68-b258-28563dd27689
URL:https://events.org/e/Netflix-Is-A-Joke-Presents-Mojo-Brookzz/68FA74BH
BEGIN:VALARM
ACTION:DISPLAY
SUMMARY:Reminder
TRIGGER:-P1D
END:VALARM
END:VEVENT
END:VCALENDAR
