BEGIN:VCALENDAR
METHOD:REQUEST
PRODID:-//events.orgNONSGML ical.net 4.0//EN
VERSION:2.0
BEGIN:VEVENT
DTEND;VALUE=DATE:20260421
DTSTAMP:20260421T082100Z
DTSTART;VALUE=DATE:20260421
LOCATION:Gramercy Theatre\, New York
ORGANIZER;CN=:mailto:events@events.org
SEQUENCE:0
SUMMARY:Dark Tranquillity & Soen
UID:771cce67-bfa2-4d37-9f6d-6a562637894c
URL:https://events.org/e/Dark-Tranquillity-Soen/TH9LN229
BEGIN:VALARM
ACTION:DISPLAY
SUMMARY:Reminder
TRIGGER:-P1D
END:VALARM
END:VEVENT
END:VCALENDAR
