BEGIN:VCALENDAR
METHOD:REQUEST
PRODID:-//events.orgNONSGML ical.net 4.0//EN
VERSION:2.0
BEGIN:VEVENT
DTEND;VALUE=DATE:20260626
DTSTAMP:20260419T164645Z
DTSTART;VALUE=DATE:20260626
LOCATION:Margot and Bill Winspear Opera House\, Dallas
ORGANIZER;CN=:mailto:events@events.org
SEQUENCE:0
SUMMARY:Clue (Touring)
UID:82bb9107-bcfc-4648-a315-b23a0ce0e8a0
URL:https://events.org/e/Clue-Touring/8EQJXOJE
BEGIN:VALARM
ACTION:DISPLAY
SUMMARY:Reminder
TRIGGER:-P1D
END:VALARM
END:VEVENT
END:VCALENDAR
