BEGIN:VCALENDAR
METHOD:REQUEST
PRODID:-//events.orgNONSGML ical.net 4.0//EN
VERSION:2.0
BEGIN:VEVENT
DTEND;VALUE=DATE:20260718
DTSTAMP:20260423T134117Z
DTSTART;VALUE=DATE:20260718
LOCATION:Fox Theatre Detroit\, Detroit
ORGANIZER;CN=:mailto:events@events.org
SEQUENCE:0
SUMMARY:Rick Ross - Port of Miami - Orchestra Tour "A Black TIe Experience"
UID:927493f4-7204-4d76-96c2-ccf5d68787a0
URL:https://events.org/e/Rick-Ross---Port-of-Miami---Orchestra-Tour-A/AMDT
 8O8Y
BEGIN:VALARM
ACTION:DISPLAY
SUMMARY:Reminder
TRIGGER:-P1D
END:VALARM
END:VEVENT
END:VCALENDAR
