BEGIN:VCALENDAR
METHOD:REQUEST
PRODID:-//events.orgNONSGML ical.net 4.0//EN
VERSION:2.0
BEGIN:VEVENT
DTEND;VALUE=DATE:20260428
DTSTAMP:20260424T080745Z
DTSTART;VALUE=DATE:20260428
LOCATION:Berlin\, New York
ORGANIZER;CN=:mailto:events@events.org
SEQUENCE:0
SUMMARY:Noah Landry | Lady Di Mega Diva | Siobhan
UID:82874b58-38cc-4d9b-b4af-7d54fabb769e
URL:https://events.org/e/Noah-Landry-Lady-Di-Mega-Diva-Siobhan/GEFTLX6B
BEGIN:VALARM
ACTION:DISPLAY
SUMMARY:Reminder
TRIGGER:-P1D
END:VALARM
END:VEVENT
END:VCALENDAR
