BEGIN:VCALENDAR
METHOD:REQUEST
PRODID:-//events.orgNONSGML ical.net 4.0//EN
VERSION:2.0
BEGIN:VEVENT
DTEND;VALUE=DATE:20260530
DTSTAMP:20260423T133420Z
DTSTART;VALUE=DATE:20260530
LOCATION:Neptune Theatre\, Seattle
ORGANIZER;CN=:mailto:events@events.org
SEQUENCE:0
SUMMARY:Andres Cepeda
UID:0cd6806a-e9b8-4b54-9b71-c0f239bbbc5a
URL:https://events.org/e/Andres-Cepeda/4GT7JRTX
BEGIN:VALARM
ACTION:DISPLAY
SUMMARY:Reminder
TRIGGER:-P1D
END:VALARM
END:VEVENT
END:VCALENDAR
