BEGIN:VCALENDAR
METHOD:REQUEST
PRODID:-//events.orgNONSGML ical.net 4.0//EN
VERSION:2.0
BEGIN:VEVENT
DTEND;VALUE=DATE:20260523
DTSTAMP:20260423T093819Z
DTSTART;VALUE=DATE:20260523
LOCATION:Audi Field\, Washington
ORGANIZER;CN=:mailto:events@events.org
SEQUENCE:0
SUMMARY:D.C. United vs CF Montréal
UID:88690010-2e0b-4034-b0a0-989b4e5ddbf1
URL:https://events.org/e/DC-United-vs-CF-Montreal/SFKG35X6
BEGIN:VALARM
ACTION:DISPLAY
SUMMARY:Reminder
TRIGGER:-P1D
END:VALARM
END:VEVENT
END:VCALENDAR
