BEGIN:VCALENDAR
METHOD:REQUEST
PRODID:-//events.orgNONSGML ical.net 4.0//EN
VERSION:2.0
BEGIN:VEVENT
DTEND;VALUE=DATE:20260613
DTSTAMP:20260423T133517Z
DTSTART;VALUE=DATE:20260613
LOCATION:Bimbo's 365 Club\, San Francisco
ORGANIZER;CN=:mailto:events@events.org
SEQUENCE:0
SUMMARY:Sistas Who Kill: Back From the Dead
UID:f8f4978f-64f5-42d0-8f6e-b86cdadf2670
URL:https://events.org/e/Sistas-Who-Kill-Back-From-the-Dead/SFT4HE2P
BEGIN:VALARM
ACTION:DISPLAY
SUMMARY:Reminder
TRIGGER:-P1D
END:VALARM
END:VEVENT
END:VCALENDAR
