BEGIN:VCALENDAR
METHOD:REQUEST
PRODID:-//events.orgNONSGML ical.net 4.0//EN
VERSION:2.0
BEGIN:VEVENT
DTEND;VALUE=DATE:20260605
DTSTAMP:20260425T170446Z
DTSTART;VALUE=DATE:20260605
LOCATION:Roadrunner-Boston\, Boston
ORGANIZER;CN=:mailto:events@events.org
SEQUENCE:0
SUMMARY:Freddie Gibbs
UID:9628c904-9a9e-4853-a875-ae4f7759cd07
URL:https://events.org/e/Freddie-Gibbs/U3FWJCQK
BEGIN:VALARM
ACTION:DISPLAY
SUMMARY:Reminder
TRIGGER:-P1D
END:VALARM
END:VEVENT
END:VCALENDAR
