BEGIN:VCALENDAR
METHOD:REQUEST
PRODID:-//events.orgNONSGML ical.net 4.0//EN
VERSION:2.0
BEGIN:VEVENT
DTEND;VALUE=DATE:20260626
DTSTAMP:20260421T104348Z
DTSTART;VALUE=DATE:20260626
LOCATION:Phoenix Theatre - Hormel Theatre\, Phoenix
ORGANIZER;CN=:mailto:events@events.org
SEQUENCE:0
SUMMARY:Dear Evan Hansen (Touring)
UID:aa892d2e-59c7-4f41-beea-66be87c42a73
URL:https://events.org/e/Dear-Evan-Hansen-Touring/NVL54CR6
BEGIN:VALARM
ACTION:DISPLAY
SUMMARY:Reminder
TRIGGER:-P1D
END:VALARM
END:VEVENT
END:VCALENDAR
