BEGIN:VCALENDAR
METHOD:REQUEST
PRODID:-//events.orgNONSGML ical.net 4.0//EN
VERSION:2.0
BEGIN:VEVENT
DTEND;VALUE=DATE:20261012
DTSTAMP:20260422T085623Z
DTSTART;VALUE=DATE:20261012
LOCATION:Warner Theatre\, Washington
ORGANIZER;CN=:mailto:events@events.org
SEQUENCE:0
SUMMARY:My Hero Academia in Concert
UID:80755b31-1fe1-4a11-8d4b-5227669b0141
URL:https://events.org/e/My-Hero-Academia-in-Concert/YUQWEKES
BEGIN:VALARM
ACTION:DISPLAY
SUMMARY:Reminder
TRIGGER:-P1D
END:VALARM
END:VEVENT
END:VCALENDAR
