BEGIN:VCALENDAR
METHOD:REQUEST
PRODID:-//events.orgNONSGML ical.net 4.0//EN
VERSION:2.0
BEGIN:VEVENT
DTEND;VALUE=DATE:20260807
DTSTAMP:20260422T090108Z
DTSTART;VALUE=DATE:20260807
LOCATION:Music Box\, San Diego
ORGANIZER;CN=:mailto:events@events.org
SEQUENCE:0
SUMMARY:The Strike plus special guest
UID:20df54f1-e771-4b8e-ae61-92f39d6f4764
URL:https://events.org/e/The-Strike-plus-special-guest/BW7BGMGS
BEGIN:VALARM
ACTION:DISPLAY
SUMMARY:Reminder
TRIGGER:-P1D
END:VALARM
END:VEVENT
END:VCALENDAR
