BEGIN:VCALENDAR
METHOD:REQUEST
PRODID:-//events.orgNONSGML ical.net 4.0//EN
VERSION:2.0
BEGIN:VEVENT
DTEND;VALUE=DATE:20260523
DTSTAMP:20260424T081039Z
DTSTART;VALUE=DATE:20260523
LOCATION:Greek Theatre\, Los Angeles
ORGANIZER;CN=:mailto:events@events.org
SEQUENCE:0
SUMMARY:Jason Bonham's Led Zeppelin Evening
UID:7787d7bb-73cc-4a47-bb1f-9c0db6a99fe8
URL:https://events.org/e/Jason-Bonhams-Led-Zeppelin-Evening/OBOSMISO
BEGIN:VALARM
ACTION:DISPLAY
SUMMARY:Reminder
TRIGGER:-P1D
END:VALARM
END:VEVENT
END:VCALENDAR
