BEGIN:VCALENDAR
METHOD:REQUEST
PRODID:-//events.orgNONSGML ical.net 4.0//EN
VERSION:2.0
BEGIN:VEVENT
DTEND;VALUE=DATE:20260615
DTSTAMP:20260421T104012Z
DTSTART;VALUE=DATE:20260615
LOCATION:Royale Boston\, Boston
ORGANIZER;CN=:mailto:events@events.org
SEQUENCE:0
SUMMARY:Joshua Slone (18 and Over)
UID:99cc18c2-a90e-4174-8f1c-4866c101ed5d
URL:https://events.org/e/Joshua-Slone-18-and-Over/JUSQORIV
BEGIN:VALARM
ACTION:DISPLAY
SUMMARY:Reminder
TRIGGER:-P1D
END:VALARM
END:VEVENT
END:VCALENDAR
