BEGIN:VCALENDAR
METHOD:REQUEST
PRODID:-//events.orgNONSGML ical.net 4.0//EN
VERSION:2.0
BEGIN:VEVENT
DTEND;VALUE=DATE:20260702
DTSTAMP:20260421T104115Z
DTSTART;VALUE=DATE:20260702
LOCATION:La Rumba\, Denver
ORGANIZER;CN=:mailto:events@events.org
SEQUENCE:0
SUMMARY:$5 Thursdays!
UID:1623fdd1-fe53-412b-8a67-21591005ec27
URL:https://events.org/e/5-Thursdays/UEIR4EON
BEGIN:VALARM
ACTION:DISPLAY
SUMMARY:Reminder
TRIGGER:-P1D
END:VALARM
END:VEVENT
END:VCALENDAR
