BEGIN:VCALENDAR
METHOD:REQUEST
PRODID:-//events.orgNONSGML ical.net 4.0//EN
VERSION:2.0
BEGIN:VEVENT
DTEND;VALUE=DATE:20260630
DTSTAMP:20260421T082644Z
DTSTART;VALUE=DATE:20260630
LOCATION:Alliance Theatre - Coca-Cola Stage\, Atlanta
ORGANIZER;CN=:mailto:events@events.org
SEQUENCE:0
SUMMARY:Basura Musical
UID:551d196d-7cb0-497c-9408-3c37e85a9e21
URL:https://events.org/e/Basura-Musical/E55GQEBV
BEGIN:VALARM
ACTION:DISPLAY
SUMMARY:Reminder
TRIGGER:-P1D
END:VALARM
END:VEVENT
END:VCALENDAR
