BEGIN:VCALENDAR
METHOD:REQUEST
PRODID:-//events.orgNONSGML ical.net 4.0//EN
VERSION:2.0
BEGIN:VEVENT
DTEND;VALUE=DATE:20260904
DTSTAMP:20260421T082223Z
DTSTART;VALUE=DATE:20260904
LOCATION:Agganis Arena\, Boston
ORGANIZER;CN=:mailto:events@events.org
SEQUENCE:0
SUMMARY:Shreya Ghoshal: The Unstoppable Tour
UID:739035a0-1204-4855-8962-e84ff1e7f5cc
URL:https://events.org/e/Shreya-Ghoshal-The-Unstoppable-Tour/XI9W9RSX
BEGIN:VALARM
ACTION:DISPLAY
SUMMARY:Reminder
TRIGGER:-P1D
END:VALARM
END:VEVENT
END:VCALENDAR
