BEGIN:VCALENDAR
METHOD:REQUEST
PRODID:-//events.orgNONSGML ical.net 4.0//EN
VERSION:2.0
BEGIN:VEVENT
DTEND;VALUE=DATE:20260419
DTSTAMP:20260421T082048Z
DTSTART;VALUE=DATE:20260419
LOCATION:The Ruby Theatre\, New York
ORGANIZER;CN=:mailto:events@events.org
SEQUENCE:0
SUMMARY:Drunk Shakespeare
UID:5760c693-8e0f-4515-b7b1-2ce2706b1428
URL:https://events.org/e/Drunk-Shakespeare/L9X5PVWF
BEGIN:VALARM
ACTION:DISPLAY
SUMMARY:Reminder
TRIGGER:-P1D
END:VALARM
END:VEVENT
END:VCALENDAR
