BEGIN:VCALENDAR
METHOD:REQUEST
PRODID:-//events.orgNONSGML ical.net 4.0//EN
VERSION:2.0
BEGIN:VEVENT
DTEND;VALUE=DATE:20260520
DTSTAMP:20260422T090809Z
DTSTART;VALUE=DATE:20260520
LOCATION:BMO Stadium\, Los Angeles
ORGANIZER;CN=:mailto:events@events.org
SEQUENCE:0
SUMMARY:Angel City FC vs. Kansas City Current
UID:dcd9ffdd-9ad9-4936-973f-f3cef54c6c7c
URL:https://events.org/e/Angel-City-FC-vs-Kansas-City-Current/W2JNTWDC
BEGIN:VALARM
ACTION:DISPLAY
SUMMARY:Reminder
TRIGGER:-P1D
END:VALARM
END:VEVENT
END:VCALENDAR
