BEGIN:VCALENDAR
METHOD:REQUEST
PRODID:-//events.orgNONSGML ical.net 4.0//EN
VERSION:2.0
BEGIN:VEVENT
DTEND;VALUE=DATE:20260621
DTSTAMP:20260421T103812Z
DTSTART;VALUE=DATE:20260621
LOCATION:The Aretha Franklin Amphitheatre\, Detroit
ORGANIZER;CN=:mailto:events@events.org
SEQUENCE:0
SUMMARY:Jokes Jazz & Jamz
UID:5f8b709e-cb50-4018-89e5-cf7a82e8fdd2
URL:https://events.org/e/Jokes-Jazz-Jamz/7UPATP62
BEGIN:VALARM
ACTION:DISPLAY
SUMMARY:Reminder
TRIGGER:-P1D
END:VALARM
END:VEVENT
END:VCALENDAR
