BEGIN:VCALENDAR
METHOD:REQUEST
PRODID:-//events.orgNONSGML ical.net 4.0//EN
VERSION:2.0
BEGIN:VEVENT
DTEND;VALUE=DATE:20260911
DTSTAMP:20260423T134107Z
DTSTART;VALUE=DATE:20260911
LOCATION:Yuengling Center\, Tampa
ORGANIZER;CN=:mailto:events@events.org
SEQUENCE:0
SUMMARY:Grupo Frontera - Triste Pero Bien C*bron Tour
UID:b2d4a6ec-6d50-43f5-a9cc-59d7a7fdce36
URL:https://events.org/e/Grupo-Frontera---Triste-Pero-Bien-Cbron-Tour/47PI
 BXN6
BEGIN:VALARM
ACTION:DISPLAY
SUMMARY:Reminder
TRIGGER:-P1D
END:VALARM
END:VEVENT
END:VCALENDAR
