BEGIN:VCALENDAR
METHOD:REQUEST
PRODID:-//events.orgNONSGML ical.net 4.0//EN
VERSION:2.0
BEGIN:VEVENT
DTEND;VALUE=DATE:20260509
DTSTAMP:20260423T133703Z
DTSTART;VALUE=DATE:20260509
LOCATION:Tabernacle\, Atlanta
ORGANIZER;CN=:mailto:events@events.org
SEQUENCE:0
SUMMARY:Monster Outbreak Tour Presents: CHE: ENCORE
UID:07c0f9f5-45bf-403b-8799-076892f95898
URL:https://events.org/e/Monster-Outbreak-Tour-Presents-CHE-ENCORE/8DXJFSHV
BEGIN:VALARM
ACTION:DISPLAY
SUMMARY:Reminder
TRIGGER:-P1D
END:VALARM
END:VEVENT
END:VCALENDAR
