BEGIN:VCALENDAR
METHOD:REQUEST
PRODID:-//events.orgNONSGML ical.net 4.0//EN
VERSION:2.0
BEGIN:VEVENT
DTEND;VALUE=DATE:20260426
DTSTAMP:20260424T080751Z
DTSTART;VALUE=DATE:20260426
LOCATION:Lincoln Center - Vivian Beaumont Theater\, New York
ORGANIZER;CN=:mailto:events@events.org
SEQUENCE:0
SUMMARY:Ragtime
UID:845f9d6f-8422-41d2-b1bd-1f79177da2c6
URL:https://events.org/e/Ragtime/77VLUUX4
BEGIN:VALARM
ACTION:DISPLAY
SUMMARY:Reminder
TRIGGER:-P1D
END:VALARM
END:VEVENT
END:VCALENDAR
