BEGIN:VCALENDAR
METHOD:REQUEST
PRODID:-//events.orgNONSGML ical.net 4.0//EN
VERSION:2.0
BEGIN:VEVENT
DTEND;VALUE=DATE:20260514
DTSTAMP:20260422T084751Z
DTSTART;VALUE=DATE:20260514
LOCATION:NOTO\, Houston
ORGANIZER;CN=:mailto:events@events.org
SEQUENCE:0
SUMMARY:Don Toliver
UID:8af91bd3-a950-4933-b117-88f685fe0f4a
URL:https://events.org/e/Don-Toliver/AHBP29XF
BEGIN:VALARM
ACTION:DISPLAY
SUMMARY:Reminder
TRIGGER:-P1D
END:VALARM
END:VEVENT
END:VCALENDAR
