BEGIN:VCALENDAR
METHOD:REQUEST
PRODID:-//events.orgNONSGML ical.net 4.0//EN
VERSION:2.0
BEGIN:VEVENT
DTEND;VALUE=DATE:20260711
DTSTAMP:20260421T103812Z
DTSTART;VALUE=DATE:20260711
LOCATION:The Church Nightclub\, Denver
ORGANIZER;CN=:mailto:events@events.org
SEQUENCE:0
SUMMARY:Young Franco
UID:eea000f0-4bd6-49d4-a3ab-ab10f44ba90d
URL:https://events.org/e/Young-Franco/Y6MLAT5G
BEGIN:VALARM
ACTION:DISPLAY
SUMMARY:Reminder
TRIGGER:-P1D
END:VALARM
END:VEVENT
END:VCALENDAR
