BEGIN:VCALENDAR
METHOD:REQUEST
PRODID:-//events.orgNONSGML ical.net 4.0//EN
VERSION:2.0
BEGIN:VEVENT
DTEND;VALUE=DATE:20260426
DTSTAMP:20260424T080546Z
DTSTART;VALUE=DATE:20260426
LOCATION:Gerald Schoenfeld Theatre\, New York
ORGANIZER;CN=:mailto:events@events.org
SEQUENCE:0
SUMMARY:Buena Vista Social Club
UID:b2f1b74b-2e16-42c4-b9b5-b98d22b74bee
URL:https://events.org/e/Buena-Vista-Social-Club/MPD23M6X
BEGIN:VALARM
ACTION:DISPLAY
SUMMARY:Reminder
TRIGGER:-P1D
END:VALARM
END:VEVENT
END:VCALENDAR
