BEGIN:VCALENDAR
METHOD:REQUEST
PRODID:-//events.orgNONSGML ical.net 4.0//EN
VERSION:2.0
BEGIN:VEVENT
DTEND;VALUE=DATE:20260424
DTSTAMP:20260422T090809Z
DTSTART;VALUE=DATE:20260424
LOCATION:Iridium\, New York
ORGANIZER;CN=:mailto:events@events.org
SEQUENCE:0
SUMMARY:Quinn Sullivan
UID:e6db309e-5f10-4c60-9ed5-fd02b4079b72
URL:https://events.org/e/Quinn-Sullivan/GI6ODMYS
BEGIN:VALARM
ACTION:DISPLAY
SUMMARY:Reminder
TRIGGER:-P1D
END:VALARM
END:VEVENT
END:VCALENDAR
