BEGIN:VCALENDAR
METHOD:REQUEST
PRODID:-//events.orgNONSGML ical.net 4.0//EN
VERSION:2.0
BEGIN:VEVENT
DTEND;VALUE=DATE:20260422
DTSTAMP:20260422T090345Z
DTSTART;VALUE=DATE:20260422
LOCATION:Westside Theatre Upstairs\, New York
ORGANIZER;CN=:mailto:events@events.org
SEQUENCE:0
SUMMARY:Little Shop Of Horrors
UID:529b29b7-0358-4f89-9b86-c00485894a5d
URL:https://events.org/e/Little-Shop-Of-Horrors/D83W83XK
BEGIN:VALARM
ACTION:DISPLAY
SUMMARY:Reminder
TRIGGER:-P1D
END:VALARM
END:VEVENT
END:VCALENDAR
