BEGIN:VCALENDAR
METHOD:REQUEST
PRODID:-//events.orgNONSGML ical.net 4.0//EN
VERSION:2.0
BEGIN:VEVENT
DTEND;VALUE=DATE:20260418
DTSTAMP:20260421T081902Z
DTSTART;VALUE=DATE:20260418
LOCATION:Night Club 101\, New York
ORGANIZER;CN=:mailto:events@events.org
SEQUENCE:0
SUMMARY:Braymores\, echo plum
UID:fa552f54-8f3b-4652-a172-dcfdf28cd742
URL:https://events.org/e/Braymores-echo-plum/WRDDSL4I
BEGIN:VALARM
ACTION:DISPLAY
SUMMARY:Reminder
TRIGGER:-P1D
END:VALARM
END:VEVENT
END:VCALENDAR
