BEGIN:VCALENDAR
METHOD:REQUEST
PRODID:-//events.orgNONSGML ical.net 4.0//EN
VERSION:2.0
BEGIN:VEVENT
DTEND;VALUE=DATE:20260521
DTSTAMP:20260422T090715Z
DTSTART;VALUE=DATE:20260521
LOCATION:Orchestra Hall - IL\, Chicago
ORGANIZER;CN=:mailto:events@events.org
SEQUENCE:0
SUMMARY:Pekka Kuusisto: Time Shifting
UID:64606993-81c0-46b7-8d3f-4de80585aa1b
URL:https://events.org/e/Pekka-Kuusisto-Time-Shifting/EPQRHIQQ
BEGIN:VALARM
ACTION:DISPLAY
SUMMARY:Reminder
TRIGGER:-P1D
END:VALARM
END:VEVENT
END:VCALENDAR
