BEGIN:VCALENDAR
METHOD:REQUEST
PRODID:-//events.orgNONSGML ical.net 4.0//EN
VERSION:2.0
BEGIN:VEVENT
DTEND;VALUE=DATE:20261010
DTSTAMP:20260422T092000Z
DTSTART;VALUE=DATE:20261010
LOCATION:The Van Buren\, Phoenix
ORGANIZER;CN=:mailto:events@events.org
SEQUENCE:0
SUMMARY:PRESIDENT: North American Campaign 2026
UID:6670d2f4-3d16-4b07-9526-c9ba65762b1e
URL:https://events.org/e/PRESIDENT-North-American-Campaign-2026/N77D8P4J
BEGIN:VALARM
ACTION:DISPLAY
SUMMARY:Reminder
TRIGGER:-P1D
END:VALARM
END:VEVENT
END:VCALENDAR
