BEGIN:VCALENDAR
METHOD:REQUEST
PRODID:-//events.orgNONSGML ical.net 4.0//EN
VERSION:2.0
BEGIN:VEVENT
DTEND;VALUE=DATE:20260427
DTSTAMP:20260424T081054Z
DTSTART;VALUE=DATE:20260427
LOCATION:Banksy Museum New York\, New York
ORGANIZER;CN=:mailto:events@events.org
SEQUENCE:0
SUMMARY:The Banksy Museum New York!
UID:7ed79261-6951-4fc8-a36a-7e0418fc49f8
URL:https://events.org/e/The-Banksy-Museum-New-York/FEP24E33
BEGIN:VALARM
ACTION:DISPLAY
SUMMARY:Reminder
TRIGGER:-P1D
END:VALARM
END:VEVENT
END:VCALENDAR
