BEGIN:VCALENDAR
METHOD:REQUEST
PRODID:-//events.orgNONSGML ical.net 4.0//EN
VERSION:2.0
BEGIN:VEVENT
DTEND;VALUE=DATE:20260426
DTSTAMP:20260424T081251Z
DTSTART;VALUE=DATE:20260426
LOCATION:Berlin\, New York
ORGANIZER;CN=:mailto:events@events.org
SEQUENCE:0
SUMMARY:Ligeia | American Seraphim | Latest Face | Guerrilla Gardner
UID:b0100381-e1d1-4c3c-81c2-3ec6c157aa3a
URL:https://events.org/e/Ligeia-American-Seraphim-Latest-Face-Guerrill/A4S
 8GN9L
BEGIN:VALARM
ACTION:DISPLAY
SUMMARY:Reminder
TRIGGER:-P1D
END:VALARM
END:VEVENT
END:VCALENDAR
