BEGIN:VCALENDAR
METHOD:REQUEST
PRODID:-//events.orgNONSGML ical.net 4.0//EN
VERSION:2.0
BEGIN:VEVENT
DTEND;VALUE=DATE:20260626
DTSTAMP:20260422T092133Z
DTSTART;VALUE=DATE:20260626
LOCATION:Lumen Field\, Seattle
ORGANIZER;CN=:mailto:events@events.org
SEQUENCE:0
SUMMARY:World Cup: Match 63 Group G - Egypt vs Iran
UID:f2cef4bc-c98f-4dde-ad60-481cf570c925
URL:https://events.org/e/World-Cup-Match-63-Group-G---Egypt-vs-Iran/W5K9SY
 D6
BEGIN:VALARM
ACTION:DISPLAY
SUMMARY:Reminder
TRIGGER:-P1D
END:VALARM
END:VEVENT
END:VCALENDAR
