BEGIN:VCALENDAR
METHOD:REQUEST
PRODID:-//events.orgNONSGML ical.net 4.0//EN
VERSION:2.0
BEGIN:VEVENT
DTEND;VALUE=DATE:20260609
DTSTAMP:20260422T092514Z
DTSTART;VALUE=DATE:20260609
LOCATION:Brick and Mortar Music Hall\, San Francisco
ORGANIZER;CN=:mailto:events@events.org
SEQUENCE:0
SUMMARY:bleood — Protagonist Tour
UID:ac79b153-da5b-4672-8abb-ee3983160d7f
URL:https://events.org/e/bleood---Protagonist-Tour/VRUI7X5G
BEGIN:VALARM
ACTION:DISPLAY
SUMMARY:Reminder
TRIGGER:-P1D
END:VALARM
END:VEVENT
END:VCALENDAR
