BEGIN:VCALENDAR
METHOD:REQUEST
PRODID:-//events.orgNONSGML ical.net 4.0//EN
VERSION:2.0
BEGIN:VEVENT
DTEND;VALUE=DATE:20260512
DTSTAMP:20260421T095437Z
DTSTART;VALUE=DATE:20260512
LOCATION:The Fillmore Philadelphia\, Philadelphia
ORGANIZER;CN=:mailto:events@events.org
SEQUENCE:0
SUMMARY:WXPN Welcomes: Courtney Barnett: Creature of Habit Tour
UID:7933e010-0a04-436e-b7bd-578c463db50c
URL:https://events.org/e/WXPN-Welcomes-Courtney-Barnett-Creature-of-Ha/U86
 CP688
BEGIN:VALARM
ACTION:DISPLAY
SUMMARY:Reminder
TRIGGER:-P1D
END:VALARM
END:VEVENT
END:VCALENDAR
