BEGIN:VCALENDAR
METHOD:REQUEST
PRODID:-//events.orgNONSGML ical.net 4.0//EN
VERSION:2.0
BEGIN:VEVENT
DTEND;VALUE=DATE:20260515
DTSTAMP:20260421T095141Z
DTSTART;VALUE=DATE:20260515
LOCATION:9:30 CLUB\, Washington
ORGANIZER;CN=:mailto:events@events.org
SEQUENCE:0
SUMMARY:No Scrubs: 90s Dance Party EARLY EDITION
UID:bb664d40-1b24-43ee-a19a-c48d72d4f732
URL:https://events.org/e/No-Scrubs-90s-Dance-Party-EARLY-EDITION/69KUO3PD
BEGIN:VALARM
ACTION:DISPLAY
SUMMARY:Reminder
TRIGGER:-P1D
END:VALARM
END:VEVENT
END:VCALENDAR
