BEGIN:VCALENDAR
METHOD:REQUEST
PRODID:-//events.orgNONSGML ical.net 4.0//EN
VERSION:2.0
BEGIN:VEVENT
DTEND;VALUE=DATE:20260522
DTSTAMP:20260423T133420Z
DTSTART;VALUE=DATE:20260522
LOCATION:Citizens House of Blues Boston\, Boston
ORGANIZER;CN=:mailto:events@events.org
SEQUENCE:0
SUMMARY:Carlo Vieux
UID:cf6629e9-0b68-47db-a7c0-69c82bc05066
URL:https://events.org/e/Carlo-Vieux/3WRO2M56
BEGIN:VALARM
ACTION:DISPLAY
SUMMARY:Reminder
TRIGGER:-P1D
END:VALARM
END:VEVENT
END:VCALENDAR
