BEGIN:VCALENDAR
METHOD:REQUEST
PRODID:-//events.orgNONSGML ical.net 4.0//EN
VERSION:2.0
BEGIN:VEVENT
DTEND;VALUE=DATE:20260623
DTSTAMP:20260421T144851Z
DTSTART;VALUE=DATE:20260623
LOCATION:Coors Field\, Denver
ORGANIZER;CN=:mailto:events@events.org
SEQUENCE:0
SUMMARY:Colorado Rockies vs. Boston Red Sox
UID:01b1e24c-f279-4c36-8b6a-086ce0e43ed7
URL:https://events.org/e/Colorado-Rockies-vs-Boston-Red-Sox/UC728EQU
BEGIN:VALARM
ACTION:DISPLAY
SUMMARY:Reminder
TRIGGER:-P1D
END:VALARM
END:VEVENT
END:VCALENDAR
