BEGIN:VCALENDAR
METHOD:REQUEST
PRODID:-//events.orgNONSGML ical.net 4.0//EN
VERSION:2.0
BEGIN:VEVENT
DTEND;VALUE=DATE:20260612
DTSTAMP:20260419T154415Z
DTSTART;VALUE=DATE:20260612
LOCATION:The Secret Group\, Houston
ORGANIZER;CN=:mailto:events@events.org
SEQUENCE:0
SUMMARY:sewerperson | i feel happy and i'm smiling tour
UID:c073dd42-fd7a-4e6f-a838-a9efc0857303
URL:https://events.org/e/sewerperson-i-feel-happy-and-im-smiling-tour/YEXV
 DYV6
BEGIN:VALARM
ACTION:DISPLAY
SUMMARY:Reminder
TRIGGER:-P1D
END:VALARM
END:VEVENT
END:VCALENDAR
