BEGIN:VCALENDAR
METHOD:REQUEST
PRODID:-//events.orgNONSGML ical.net 4.0//EN
VERSION:2.0
BEGIN:VEVENT
DTEND;VALUE=DATE:20260705
DTSTAMP:20260423T133342Z
DTSTART;VALUE=DATE:20260705
LOCATION:Guthrie Theater - McGuire Proscenium Stage\, Minneapolis
ORGANIZER;CN=:mailto:events@events.org
SEQUENCE:0
SUMMARY:Come from Away
UID:e22b118d-e3de-4dab-a143-c6addc485dfd
URL:https://events.org/e/Come-from-Away/WCWVYYWW
BEGIN:VALARM
ACTION:DISPLAY
SUMMARY:Reminder
TRIGGER:-P1D
END:VALARM
END:VEVENT
END:VCALENDAR
