BEGIN:VCALENDAR
METHOD:REQUEST
PRODID:-//events.orgNONSGML ical.net 4.0//EN
VERSION:2.0
BEGIN:VEVENT
DTEND;VALUE=DATE:20260524
DTSTAMP:20260422T083854Z
DTSTART;VALUE=DATE:20260524
LOCATION:Empty Bottle\, Chicago
ORGANIZER;CN=:mailto:events@events.org
SEQUENCE:0
SUMMARY:Snowcuffs / Almost There But Not Really / Daarling
UID:d72998af-b20f-4a80-9200-ec1933e932fb
URL:https://events.org/e/Snowcuffs-Almost-There-But-Not-Really-Daarling/JM
 2R5KXI
BEGIN:VALARM
ACTION:DISPLAY
SUMMARY:Reminder
TRIGGER:-P1D
END:VALARM
END:VEVENT
END:VCALENDAR
