BEGIN:VCALENDAR
METHOD:REQUEST
PRODID:-//events.orgNONSGML ical.net 4.0//EN
VERSION:2.0
BEGIN:VEVENT
DTEND;VALUE=DATE:20260428
DTSTAMP:20260424T081140Z
DTSTART;VALUE=DATE:20260428
LOCATION:Lucinda's\, New York
ORGANIZER;CN=:mailto:events@events.org
SEQUENCE:0
SUMMARY:Tom Clark and the High Action Boys/Cody Melville Band Early Show
UID:d97dca68-999e-4ebc-b465-a14a62054324
URL:https://events.org/e/Tom-Clark-and-the-High-Action-BoysCody-Melvil/56P
 5KND5
BEGIN:VALARM
ACTION:DISPLAY
SUMMARY:Reminder
TRIGGER:-P1D
END:VALARM
END:VEVENT
END:VCALENDAR
