BEGIN:VCALENDAR
METHOD:REQUEST
PRODID:-//events.orgNONSGML ical.net 4.0//EN
VERSION:2.0
BEGIN:VEVENT
DTEND;VALUE=DATE:20260423
DTSTAMP:20260422T091837Z
DTSTART;VALUE=DATE:20260423
LOCATION:New World Stages - Stage 2\, New York
ORGANIZER;CN=:mailto:events@events.org
SEQUENCE:0
SUMMARY:Gazillion Bubble Show
UID:d09bf959-a2f4-46ff-a522-1d111ad775e2
URL:https://events.org/e/Gazillion-Bubble-Show/B298O7UL
BEGIN:VALARM
ACTION:DISPLAY
SUMMARY:Reminder
TRIGGER:-P1D
END:VALARM
END:VEVENT
END:VCALENDAR
