BEGIN:VCALENDAR
METHOD:REQUEST
PRODID:-//events.orgNONSGML ical.net 4.0//EN
VERSION:2.0
BEGIN:VEVENT
DTEND;VALUE=DATE:20261121
DTSTAMP:20260423T134413Z
DTSTART;VALUE=DATE:20261121
LOCATION:Detroit Opera House\, Detroit
ORGANIZER;CN=:mailto:events@events.org
SEQUENCE:0
SUMMARY:The Bald and the Beautiful LIVE: Very Bald\, Very Beautiful
UID:5e538d29-b32d-43d7-abdb-30e6a58939b4
URL:https://events.org/e/The-Bald-and-the-Beautiful-LIVE-Very-Bald-Ver/VW5
 Y4LJF
BEGIN:VALARM
ACTION:DISPLAY
SUMMARY:Reminder
TRIGGER:-P1D
END:VALARM
END:VEVENT
END:VCALENDAR
