BEGIN:VCALENDAR
METHOD:REQUEST
PRODID:-//events.orgNONSGML ical.net 4.0//EN
VERSION:2.0
BEGIN:VEVENT
DTEND;VALUE=DATE:20260520
DTSTAMP:20260422T084600Z
DTSTART;VALUE=DATE:20260520
LOCATION:Vinyl\, Atlanta
ORGANIZER;CN=:mailto:events@events.org
SEQUENCE:0
SUMMARY:HeART Museum: A Jazz Gallery w/ Travis Hall
UID:39444aa2-ad72-4303-8fa9-9d5c538fd87d
URL:https://events.org/e/HeART-Museum-A-Jazz-Gallery-w-Travis-Hall/IT98SBWE
BEGIN:VALARM
ACTION:DISPLAY
SUMMARY:Reminder
TRIGGER:-P1D
END:VALARM
END:VEVENT
END:VCALENDAR
